BEGIN:VCALENDAR
VERSION:2.0
PRODID:-//Diversity Alliance of the Puget Sound - ECPv6.0.13.1//NONSGML v1.0//EN
CALSCALE:GREGORIAN
METHOD:PUBLISH
X-WR-CALNAME:Diversity Alliance of the Puget Sound
X-ORIGINAL-URL:https://www.diversityallianceofthepugetsound.org
X-WR-CALDESC:Events for Diversity Alliance of the Puget Sound
REFRESH-INTERVAL;VALUE=DURATION:PT1H
X-Robots-Tag:noindex
X-PUBLISHED-TTL:PT1H
BEGIN:VTIMEZONE
TZID:America/Los_Angeles
BEGIN:DAYLIGHT
TZOFFSETFROM:-0800
TZOFFSETTO:-0700
TZNAME:PDT
DTSTART:20220313T100000
END:DAYLIGHT
BEGIN:STANDARD
TZOFFSETFROM:-0700
TZOFFSETTO:-0800
TZNAME:PST
DTSTART:20221106T090000
END:STANDARD
END:VTIMEZONE
BEGIN:VEVENT
DTSTART;TZID=America/Los_Angeles:20221112T160000
DTEND;TZID=America/Los_Angeles:20221112T163000
DTSTAMP:20230804T222942
CREATED:20221102T185559Z
LAST-MODIFIED:20221112T094657Z
UID:1211-1668268800-1668270600@www.diversityallianceofthepugetsound.org
SUMMARY:City of Tacoma Trans Awareness Week Flag Raise
DESCRIPTION:Join DAPS and the City of Tacoma for their 2nd year in raising the Trans flag over the Municipal Building\, with Mayor Victoria Woodards and Council Member Kristina Walker. \n 
URL:https://www.diversityallianceofthepugetsound.org/eventscalendar/city-of-tacoma-trans-awareness-week-flag-raise/
LOCATION:Ben Gilbert Park\, 700 Market St\, Tacoma\, WA\, 98402\, United States
ORGANIZER;CN="DAPS":MAILTO:info@diversityallianceofthepugetsound.org
END:VEVENT
END:VCALENDAR