BEGIN:VCALENDAR
VERSION:2.0
PRODID:-//Diversity Alliance of the Puget Sound - ECPv6.0.13.1//NONSGML v1.0//EN
CALSCALE:GREGORIAN
METHOD:PUBLISH
X-ORIGINAL-URL:https://www.diversityallianceofthepugetsound.org
X-WR-CALDESC:Events for Diversity Alliance of the Puget Sound
REFRESH-INTERVAL;VALUE=DURATION:PT1H
X-Robots-Tag:noindex
X-PUBLISHED-TTL:PT1H
BEGIN:VTIMEZONE
TZID:America/Los_Angeles
BEGIN:DAYLIGHT
TZOFFSETFROM:-0800
TZOFFSETTO:-0700
TZNAME:PDT
DTSTART:20220313T100000
END:DAYLIGHT
BEGIN:STANDARD
TZOFFSETFROM:-0700
TZOFFSETTO:-0800
TZNAME:PST
DTSTART:20221106T090000
END:STANDARD
END:VTIMEZONE
BEGIN:VEVENT
DTSTART;TZID=America/Los_Angeles:20221116T100000
DTEND;TZID=America/Los_Angeles:20221116T140000
DTSTAMP:20230804T222906
CREATED:20221103T082514Z
LAST-MODIFIED:20221106T023933Z
UID:1270-1668592800-1668607200@www.diversityallianceofthepugetsound.org
SUMMARY:Name Change Clinic [UTOPIA TAW Event]
DESCRIPTION:In collaboration with Swedish and ACRS\, we are hosting a Name Change and Citizenship Clinic in honor of Trans Awareness Week. This clinic is open to Trans and Gender Diverse folks who are seeking name changes\, gender marker changes\, or obtaining citizenship. Some financial aid will be available.  \nTo schedule an appointment\, please fill out the form at bit.ly/LegalClinic11-16
URL:https://www.diversityallianceofthepugetsound.org/eventscalendar/name-change-clinic-utopia-taw-week/
LOCATION:Mapu Maia Clinic\, 812 Central Ave. N\, Kent\, WA\, 98032\, United States
END:VEVENT
BEGIN:VEVENT
DTSTART;TZID=America/Los_Angeles:20221116T100000
DTEND;TZID=America/Los_Angeles:20221116T140000
DTSTAMP:20230804T222906
CREATED:20221103T083147Z
LAST-MODIFIED:20221106T023919Z
UID:1278-1668592800-1668607200@www.diversityallianceofthepugetsound.org
SUMMARY:Citizenship Clinic [UTOPIA TAW Event]
DESCRIPTION:In collaboration with Swedish and ACRS\, we are hosting a Citizenship Clinic in honor of Trans Awareness Week. This clinic is open to Trans and Gender Diverse folks who are seeking citizenship. Some financial aid will be available.  \nTo schedule an appointment\, please fill out the form at bit.ly/LegalClinic11-16 \n*Name Change Clinic events are posted separately
URL:https://www.diversityallianceofthepugetsound.org/eventscalendar/citizenship-clinic-utopia-taw-week/
LOCATION:UTOPIA\, 841 Central Ave N Suite C-106\, Kent\, WA\, 98032\, United States
END:VEVENT
BEGIN:VEVENT
DTSTART;TZID=America/Los_Angeles:20221116T180000
DTEND;TZID=America/Los_Angeles:20221116T210000
DTSTAMP:20230804T222906
CREATED:20221103T082843Z
LAST-MODIFIED:20221106T023909Z
UID:1276-1668621600-1668632400@www.diversityallianceofthepugetsound.org
SUMMARY:Name Change Clinic [UTOPIA TAW Event]
DESCRIPTION:In collaboration with Swedish and ACRS\, we are hosting a Name Change Clinic in honor of Trans Awareness Week. This clinic is open to Trans and Gender Diverse folks who are seeking name and gender marker changes. Some financial aid will be available.  \nTo schedule an appointment\, please fill out the form at bit.ly/LegalClinic11-16 \n*Citizenship Clinic event is posted separately
URL:https://www.diversityallianceofthepugetsound.org/eventscalendar/name-change-clinic-utopia-taw-week-2/
LOCATION:Mapu Maia Clinic\, 812 Central Ave. N\, Kent\, WA\, 98032\, United States
END:VEVENT
END:VCALENDAR