BEGIN:VCALENDAR
VERSION:2.0
PRODID:-//Diversity Alliance of the Puget Sound - ECPv6.0.13.1//NONSGML v1.0//EN
CALSCALE:GREGORIAN
METHOD:PUBLISH
X-WR-CALNAME:Diversity Alliance of the Puget Sound
X-ORIGINAL-URL:https://www.diversityallianceofthepugetsound.org
X-WR-CALDESC:Events for Diversity Alliance of the Puget Sound
REFRESH-INTERVAL;VALUE=DURATION:PT1H
X-Robots-Tag:noindex
X-PUBLISHED-TTL:PT1H
BEGIN:VTIMEZONE
TZID:America/Los_Angeles
BEGIN:DAYLIGHT
TZOFFSETFROM:-0800
TZOFFSETTO:-0700
TZNAME:PDT
DTSTART:20220313T100000
END:DAYLIGHT
BEGIN:STANDARD
TZOFFSETFROM:-0700
TZOFFSETTO:-0800
TZNAME:PST
DTSTART:20221106T090000
END:STANDARD
END:VTIMEZONE
BEGIN:VEVENT
DTSTART;TZID=America/Los_Angeles:20221117T140000
DTEND;TZID=America/Los_Angeles:20221117T190000
DTSTAMP:20230804T222936
CREATED:20221103T081803Z
LAST-MODIFIED:20221106T023901Z
UID:1264-1668693600-1668711600@www.diversityallianceofthepugetsound.org
SUMMARY:Navigating Ecosystems of Care [UTOPIA TAW Event]
DESCRIPTION:In honor of Trans Awareness Week we are taking care of our minds\, bodies\, and souls with Navigating Ecosystems of Care. A day for our queer and trans community to thrive inside and out. Through our various partners\, we will be offering mental health counseling\, HIV/STI testing\, COVID-19\, Monkeypox\, and Flu vaccines\, HEP A\, B\, and C testing\, and more. We welcome you to join us for a day of self care. \nRegister for your appointment at bit.ly/NEC11-17 \nQuestions?\nsupport@utopiawa.org 
URL:https://www.diversityallianceofthepugetsound.org/eventscalendar/navigating-ecosystems-of-care-utopia-taw-week/
LOCATION:Mapu Maia Clinic\, 812 Central Ave. N\, Kent\, WA\, 98032\, United States
END:VEVENT
BEGIN:VEVENT
DTSTART;TZID=America/Los_Angeles:20221117T190000
DTEND;TZID=America/Los_Angeles:20221117T210000
DTSTAMP:20230804T222936
CREATED:20221117T213913Z
LAST-MODIFIED:20221117T213913Z
UID:1188-1668711600-1668718800@www.diversityallianceofthepugetsound.org
SUMMARY:DAPS Discussions: Transitioning While Trans
DESCRIPTION:DAPS will be hosting their weekly DAPS Discussions group Thursday 7-9pm on Zoom. \nThis month’s theme is Trans Awareness \nEmail info@diversityallianceofthepugetsound.org for the zoom link \n 
URL:https://www.diversityallianceofthepugetsound.org/eventscalendar/daps-discussions-transitioning-while-trans/
LOCATION:WA
ORGANIZER;CN="DAPS":MAILTO:info@diversityallianceofthepugetsound.org
END:VEVENT
END:VCALENDAR