BEGIN:VCALENDAR
VERSION:2.0
PRODID:-//Diversity Alliance of the Puget Sound - ECPv6.0.13.1//NONSGML v1.0//EN
CALSCALE:GREGORIAN
METHOD:PUBLISH
X-WR-CALNAME:Diversity Alliance of the Puget Sound
X-ORIGINAL-URL:https://www.diversityallianceofthepugetsound.org
X-WR-CALDESC:Events for Diversity Alliance of the Puget Sound
REFRESH-INTERVAL;VALUE=DURATION:PT1H
X-Robots-Tag:noindex
X-PUBLISHED-TTL:PT1H
BEGIN:VTIMEZONE
TZID:America/Los_Angeles
BEGIN:DAYLIGHT
TZOFFSETFROM:-0800
TZOFFSETTO:-0700
TZNAME:PDT
DTSTART:20220313T100000
END:DAYLIGHT
BEGIN:STANDARD
TZOFFSETFROM:-0700
TZOFFSETTO:-0800
TZNAME:PST
DTSTART:20221106T090000
END:STANDARD
END:VTIMEZONE
BEGIN:VEVENT
DTSTART;TZID=America/Los_Angeles:20221118T110000
DTEND;TZID=America/Los_Angeles:20221118T130000
DTSTAMP:20230804T222916
CREATED:20221117T002903Z
LAST-MODIFIED:20221118T084053Z
UID:1334-1668769200-1668776400@www.diversityallianceofthepugetsound.org
SUMMARY:Honoring Trans Lives\, Dreaming of Trans Freedom (Green River College)
DESCRIPTION:Join Green River College for Trans Day of Remembrance Friday November 18th 11am-1pm either in person or online on Zoom https://us02web.zoom.us/j/86198751946
URL:https://www.diversityallianceofthepugetsound.org/eventscalendar/honoring-trans-lives-dreaming-of-trans-freedom/
LOCATION:Green River College\, 12401 SE 320th St\, Auburn\, WA\, 98092
END:VEVENT
BEGIN:VEVENT
DTSTART;TZID=America/Los_Angeles:20221118T120000
DTEND;TZID=America/Los_Angeles:20221118T150000
DTSTAMP:20230804T222916
CREATED:20221106T023728Z
LAST-MODIFIED:20221111T221949Z
UID:1284-1668772800-1668783600@www.diversityallianceofthepugetsound.org
SUMMARY:Plant A Tree [UTOPIA TAW Event]
DESCRIPTION:Join UTOPIA as they memorialize our fallen trans siblings and plant a tree in remembrance. They will be gathering on the native lands of the Duwamish Tribe at the Duwamish Longhouse and Cultural Center on November 18\, from 12pm-3pm. Let us plant trees so they will grow strong\, bountiful\, and proud like the way our trans community deserve to live. \nRegister at bit.ly/PlantATree22
URL:https://www.diversityallianceofthepugetsound.org/eventscalendar/1284/
LOCATION:Duwamish Longhouse and Cultural Center\, 4705 W Marginal Way SW\, Seattle\, WA\, 98106\, United States
END:VEVENT
BEGIN:VEVENT
DTSTART;TZID=America/Los_Angeles:20221118T180000
DTEND;TZID=America/Los_Angeles:20221118T210000
DTSTAMP:20230804T222916
CREATED:20221103T081354Z
LAST-MODIFIED:20221106T023842Z
UID:1259-1668794400-1668805200@www.diversityallianceofthepugetsound.org
SUMMARY:Live Screening of Le Nofo: Rise to the Throne [UTOPIA TAW Event]
DESCRIPTION:Youʻve all been waiting for it… The OFFICIAL screening of Le Nofo: The Rise to the Throne! Our sold out show of 2022 with over 750 attendees! Watch the whole show and hear from our cast and creators with some behind the scenes content. \nBring your cozy chairs and pillows and letʻs laugh\, cry\, and laugh some more! Space is limited\, so please register if you will be attending. \n \n 
URL:https://www.diversityallianceofthepugetsound.org/eventscalendar/live-screening-of-le-nofo-rise-to-the-throne-utopia-taw-week/
LOCATION:Trinity Community Gym\, 3807 S Reith\, Kent\, WA\, 98032\, United States
END:VEVENT
BEGIN:VEVENT
DTSTART;TZID=America/Los_Angeles:20221118T183000
DTEND;TZID=America/Los_Angeles:20221118T200000
DTSTAMP:20230804T222916
CREATED:20221102T204337Z
LAST-MODIFIED:20221102T204337Z
UID:1240-1668796200-1668801600@www.diversityallianceofthepugetsound.org
SUMMARY:Dr. Alan L. Hart: Transgender Doctor in the 1930’s
DESCRIPTION:In honor of Transgender Awareness Week\, please join us at the THS Museum\, 406 Tacoma Avenue South\, for a talk by THS Curator Elizabeth Korsmo\, “Dr. Alan L. Hart: Transgender Doctor in the 1930’s.” \nLearn about the life and works of Dr. Hart\, transgender doctor and author in Tacoma in the 1930’s. \nIf you aren’t able to join us in person for this talk\, it will also be available on our YouTube Channel beginning Monday\, November 21.
URL:https://www.diversityallianceofthepugetsound.org/eventscalendar/dr-alan-l-hart-transgender-doctor-in-the-1930s/
LOCATION:Tacoma Historical Society\, 406 Tacoma Avenue South\, Tacoma\, WA\, 98042\, United States
END:VEVENT
END:VCALENDAR