BEGIN:VCALENDAR
VERSION:2.0
PRODID:-//Diversity Alliance of the Puget Sound - ECPv6.0.13.1//NONSGML v1.0//EN
CALSCALE:GREGORIAN
METHOD:PUBLISH
X-WR-CALNAME:Diversity Alliance of the Puget Sound
X-ORIGINAL-URL:https://www.diversityallianceofthepugetsound.org
X-WR-CALDESC:Events for Diversity Alliance of the Puget Sound
REFRESH-INTERVAL;VALUE=DURATION:PT1H
X-Robots-Tag:noindex
X-PUBLISHED-TTL:PT1H
BEGIN:VTIMEZONE
TZID:America/Los_Angeles
BEGIN:DAYLIGHT
TZOFFSETFROM:-0800
TZOFFSETTO:-0700
TZNAME:PDT
DTSTART:20230312T100000
END:DAYLIGHT
BEGIN:STANDARD
TZOFFSETFROM:-0700
TZOFFSETTO:-0800
TZNAME:PST
DTSTART:20231105T090000
END:STANDARD
END:VTIMEZONE
BEGIN:VEVENT
DTSTART;VALUE=DATE:20230609
DTEND;VALUE=DATE:20230611
DTSTAMP:20230804T204759
CREATED:20230509T222048Z
LAST-MODIFIED:20230509T222048Z
UID:1519-1686268800-1686441599@www.diversityallianceofthepugetsound.org
SUMMARY:Spokane Pride
DESCRIPTION:349 pieces of legislation in the US currently target LGBTQIA2S+ rights.\nNo matter what you think of us –\nNo matter how you believe you can legislate our bodies\,\nwe are\nNEVER GOING BACK \nWe will forever exist loud\, and strong\, and\nPROUD
URL:https://www.diversityallianceofthepugetsound.org/eventscalendar/spokane-pride/
LOCATION:Riverfront Park\, 507 N Howard St\, Spokane\, WA\, 99201\, United States
ORGANIZER;CN="Spokane%20Pride":MAILTO:info@spokanepride.org
END:VEVENT
BEGIN:VEVENT
DTSTART;TZID=America/Los_Angeles:20230610T110000
DTEND;TZID=America/Los_Angeles:20230610T180000
DTSTAMP:20230804T204759
CREATED:20230511T214223Z
LAST-MODIFIED:20230511T214223Z
UID:1545-1686394800-1686420000@www.diversityallianceofthepugetsound.org
SUMMARY:Olympic Pride
DESCRIPTION:
URL:https://www.diversityallianceofthepugetsound.org/eventscalendar/olympic-pride/
LOCATION:Pope Marine Park\, Port Townsend\, WA\, 98368\, United States
ORGANIZER;CN="Olympic%20Pride":MAILTO:info@olympicpride.org
END:VEVENT
BEGIN:VEVENT
DTSTART;TZID=America/Los_Angeles:20230610T120000
DTEND;TZID=America/Los_Angeles:20230610T160000
DTSTAMP:20230804T204759
CREATED:20230509T220929Z
LAST-MODIFIED:20230509T220929Z
UID:1513-1686398400-1686412800@www.diversityallianceofthepugetsound.org
SUMMARY:Woodinville Pride
DESCRIPTION:The first annual Woodinvlle Pride took place at DeYoung Park in 2022.  Local residents had a vision of seeing more LGBTQIA+ events on the Eastside for those less willing (or unable) to attend larger events in the city. We believe that our youth need more smaller\, family-oriented\, safe & inclusive events closer to home to show the types of resources available to the queer community and that local LGBTQIA+ artists\, crafters\, performers\, creators\, etc. deserve more opportunities to showcase their talents in an inclusive\, safe space.
URL:https://www.diversityallianceofthepugetsound.org/eventscalendar/woodinville-pride/
LOCATION:Wilmot Gateway Park\, 17301 131st Ave. NE\, Woodinville\, WA\, 98072\, United States
ORGANIZER;CN="Woodinville%20Pride":MAILTO:woodinvillepride@gmail.com
END:VEVENT
END:VCALENDAR