BEGIN:VCALENDAR
VERSION:2.0
PRODID:-//Diversity Alliance of the Puget Sound - ECPv6.0.13.1//NONSGML v1.0//EN
CALSCALE:GREGORIAN
METHOD:PUBLISH
X-ORIGINAL-URL:https://www.diversityallianceofthepugetsound.org
X-WR-CALDESC:Events for Diversity Alliance of the Puget Sound
REFRESH-INTERVAL;VALUE=DURATION:PT1H
X-Robots-Tag:noindex
X-PUBLISHED-TTL:PT1H
BEGIN:VTIMEZONE
TZID:America/Los_Angeles
BEGIN:DAYLIGHT
TZOFFSETFROM:-0800
TZOFFSETTO:-0700
TZNAME:PDT
DTSTART:20230312T100000
END:DAYLIGHT
BEGIN:STANDARD
TZOFFSETFROM:-0700
TZOFFSETTO:-0800
TZNAME:PST
DTSTART:20231105T090000
END:STANDARD
END:VTIMEZONE
BEGIN:VEVENT
DTSTART;TZID=America/Los_Angeles:20230623T173000
DTEND;TZID=America/Los_Angeles:20230623T213000
DTSTAMP:20230801T120554
CREATED:20230509T223606Z
LAST-MODIFIED:20230509T223606Z
UID:1529-1687541400-1687555800@www.diversityallianceofthepugetsound.org
SUMMARY:Trans Pride
DESCRIPTION:Started in 2013\, Trans Pride Seattle is an annual event organized by Gender Justice League in collaboration with hundreds of local organizers\, volunteers\, and groups who support local the Seattle-area trans & gender diverse community.  \n  \nWe aim to increase the strength of the trans & gender diverse community and our allies—both within and beyond Seattle—through increased visibility\, connection\, and love\, and the celebration of our lives. \n  \nTrans Pride Seattle is open to everyone who believes that trans & gender diverse people deserve to live our lives free from violence\, discrimination\, stigmatization\, poverty\, hatred\, rejection\, medical abuse and neglect\, and mental pathologization. We encourage the participation of groups\, organizations\, and individuals in the trans & gender diverse community\, and those offering services directly to our community. \n  \nTrans Pride Seattle seeks to show our numbers\, share our ideas\, and call for an end to the structural and interpersonal violence that our communities face. We aim to increase the visibility and acceptance of Seattle’s vibrant trans & gender diverse communities by recruiting allies and engaging the wider community on trans issues while celebrating our rich diversity\, strength\, and beauty. \n@The Amphitheater in Volunteer Park
URL:https://www.diversityallianceofthepugetsound.org/eventscalendar/trans-pride/
LOCATION:Volunteer Park\, 1247 15th Ave E\, Seattle\, WA\, 98112\, United States
ORGANIZER;CN="Gender%20Justice%20League":MAILTO:info@genderjusticeleague.org
END:VEVENT
END:VCALENDAR