BEGIN:VCALENDAR
VERSION:2.0
PRODID:-//Diversity Alliance of the Puget Sound - ECPv6.0.13.1//NONSGML v1.0//EN
CALSCALE:GREGORIAN
METHOD:PUBLISH
X-ORIGINAL-URL:https://www.diversityallianceofthepugetsound.org
X-WR-CALDESC:Events for Diversity Alliance of the Puget Sound
REFRESH-INTERVAL;VALUE=DURATION:PT1H
X-Robots-Tag:noindex
X-PUBLISHED-TTL:PT1H
BEGIN:VTIMEZONE
TZID:America/Los_Angeles
BEGIN:DAYLIGHT
TZOFFSETFROM:-0800
TZOFFSETTO:-0700
TZNAME:PDT
DTSTART:20230312T100000
END:DAYLIGHT
BEGIN:STANDARD
TZOFFSETFROM:-0700
TZOFFSETTO:-0800
TZNAME:PST
DTSTART:20231105T090000
END:STANDARD
END:VTIMEZONE
BEGIN:VEVENT
DTSTART;TZID=America/Los_Angeles:20230625T110000
DTEND;TZID=America/Los_Angeles:20230625T150000
DTSTAMP:20230804T214322
CREATED:20230511T215358Z
LAST-MODIFIED:20230511T215429Z
UID:1556-1687690800-1687705200@www.diversityallianceofthepugetsound.org
SUMMARY:Seattle Pride Parade
DESCRIPTION:The Parade route will again run downtown Seattle along 4th Ave\, between Pike St and Denny Way (step off will be at Westlake Park). This LGBTQIA+ reunion is a free\, fun\, community-wide celebration advancing awareness of LGBTQIA+ issues and promoting mutual respect and equal human rights for all.
URL:https://www.diversityallianceofthepugetsound.org/eventscalendar/seattle-pride-parade/
LOCATION:Westlake Center\, 400 Pine St\, Seattle\, WA\, 98101\, United States
ORGANIZER;CN="Seattle%20Pride":MAILTO:Hello@SeattlePride.org
END:VEVENT
BEGIN:VEVENT
DTSTART;TZID=America/Los_Angeles:20230625T120000
DTEND;TZID=America/Los_Angeles:20230625T200000
DTSTAMP:20230804T214322
CREATED:20230511T215102Z
LAST-MODIFIED:20230511T215102Z
UID:1554-1687694400-1687723200@www.diversityallianceofthepugetsound.org
SUMMARY:PrideFest Day 2
DESCRIPTION:PrideFest Seattle Center is back! Sunday\, June 25\, 2023 noon-8pm immediately following the downtown Pride Parade. Three stages\, three beverage gardens\, over one hundred artists\, over a hundred exhibitors including festival food vendors….and as always: FREE!
URL:https://www.diversityallianceofthepugetsound.org/eventscalendar/pridefest-day-2/
LOCATION:Capitol Hill Seattle\, Seattle\, WA\, United States
ORGANIZER;CN="PrideFest":MAILTO:INFO@PRIDEFEST.ORG
END:VEVENT
BEGIN:VEVENT
DTSTART;TZID=America/Los_Angeles:20230701T103000
DTEND;TZID=America/Los_Angeles:20230701T183000
DTSTAMP:20230804T214322
CREATED:20230515T225354Z
LAST-MODIFIED:20230515T225354Z
UID:1560-1688207400-1688236200@www.diversityallianceofthepugetsound.org
SUMMARY:Cap City Pride
DESCRIPTION:This year’s theme is Remember the Future\, Celebrate the Past.
URL:https://www.diversityallianceofthepugetsound.org/eventscalendar/cap-city-pride/
LOCATION:Port Plaza\, 701 Columbia St NW\, Olympia\, WA\, 98501\, United States
ORGANIZER;CN="Cap%20City%20Pride":MAILTO:info@capitalcitypride.net
END:VEVENT
BEGIN:VEVENT
DTSTART;TZID=America/Los_Angeles:20230702T120000
DTEND;TZID=America/Los_Angeles:20230702T170000
DTSTAMP:20230804T214322
CREATED:20230515T230610Z
LAST-MODIFIED:20230515T230610Z
UID:1568-1688299200-1688317200@www.diversityallianceofthepugetsound.org
SUMMARY:Redmond Pride
DESCRIPTION:Pride Across the Bridge is confirmed for  our  second Pride event at the ​Redmond Downtown Park ! \nWe will still be utilizing  our amazing queer  centered security team\, to prioritize the safety of everyone at Redmond Pride. We also plan on having food trucks this year!  \nwww.RedmondPride.org\nSign up for the newsletter so you can see the vendors coming\, performers and food options!\n​\nRedmond’s parking  options can be\, challenging… We’ve got you covered! Pride Across the Bridge is working to secure  an inclusive shuttle service with pick-ups at Redmond City Hall and the Redmond Town Center. \nWe recommend carpooling or utilizing public transit. Here are some transportation options to get you here safely so you can enjoy yourself!
URL:https://www.diversityallianceofthepugetsound.org/eventscalendar/redmond-pride/
LOCATION:Downtown Redmond Park\, 16101 NE Redmond way\, Redmond\, WA\, 98052\, United States
END:VEVENT
BEGIN:VEVENT
DTSTART;TZID=America/Los_Angeles:20230708T120000
DTEND;TZID=America/Los_Angeles:20230708T180000
DTSTAMP:20230804T214322
CREATED:20230515T225955Z
LAST-MODIFIED:20230515T225955Z
UID:1564-1688817600-1688839200@www.diversityallianceofthepugetsound.org
SUMMARY:Tacoma Pride
DESCRIPTION:Come out and celebrate the LGBTQ+ community here in Tacoma! The street festival will be an all ages event that will include a mainstage\, hosted by Alma Tacoma\, with queer and BIPOC entertainment\, a beer garden\, Makers Market and so much more!
URL:https://www.diversityallianceofthepugetsound.org/eventscalendar/tacoma-pride/
LOCATION:Pacific Ave Tacoma\, 754 Pacific Ave\, Tacoma\, WA\, 98402\, United States
END:VEVENT
BEGIN:VEVENT
DTSTART;VALUE=DATE:20230818
DTEND;VALUE=DATE:20230821
DTSTAMP:20230804T214322
CREATED:20230515T230745Z
LAST-MODIFIED:20230515T230745Z
UID:1572-1692316800-1692575999@www.diversityallianceofthepugetsound.org
SUMMARY:DAPS Camping Trip
DESCRIPTION:
URL:https://www.diversityallianceofthepugetsound.org/eventscalendar/daps-camping-trip/
LOCATION:Private Location
ORGANIZER;CN="DAPS":MAILTO:info@diversityallianceofthepugetsound.org
END:VEVENT
BEGIN:VEVENT
DTSTART;TZID=America/Los_Angeles:20230820T080000
DTEND;TZID=America/Los_Angeles:20230820T170000
DTSTAMP:20230804T214322
CREATED:20230515T231235Z
LAST-MODIFIED:20230515T231235Z
UID:1575-1692518400-1692550800@www.diversityallianceofthepugetsound.org
SUMMARY:Alki Beach Pride
DESCRIPTION:Our mission is to unite Seattle’s LGBTQ+ community and celebrate Queer culture in a dignified way that acknowledges the intersection of race. We Liberate Queer people who do not feel seen\, heard\, or accepted\, and educate the Seattle community in a way that fosters inclusivity\, equality\, and respect for everyone. \nThrough this foundation\, continue to empower our Queer voices\, and work\, as well as strengthen community and ally connections. \nWe would like to acknowledge that we are on the traditional land of the first people of Seattle\, the Duwamish people past and present. \nWe honor with gratitude the land itself and the Duwamish Tribe. \n  \n***TIMES ARE TBD!!!
URL:https://www.diversityallianceofthepugetsound.org/eventscalendar/alki-beach-pride/
LOCATION:Alki Beach Park\, 2665 Alki Ave SW\, Seattle\, WA\, 98116\, United States
END:VEVENT
BEGIN:VEVENT
DTSTART;TZID=America/Los_Angeles:20230923T080000
DTEND;TZID=America/Los_Angeles:20230923T170000
DTSTAMP:20230804T214322
CREATED:20230515T231716Z
LAST-MODIFIED:20230515T231835Z
UID:1579-1695456000-1695488400@www.diversityallianceofthepugetsound.org
SUMMARY:Grays Harbor Pride
DESCRIPTION:Out and Proud Grays Harbor Coalition is super excited to present our 10th amazing Pride Festival! \nThis year’s festival will be in person at Grays Harbor Historical Seaport in Aberdeen on Saturday\, September 23rd\, 2023. \n  \n***TIMES ARE TBD!!!
URL:https://www.diversityallianceofthepugetsound.org/eventscalendar/grays-harbor-pride/
LOCATION:Grays Harbor Historical Seaport\, 500 N Custer St\, Aberdeen\, WA\, 98520\, United States
ORGANIZER;CN="OPGHC":MAILTO:outproudghc@gmail.com
END:VEVENT
END:VCALENDAR