BEGIN:VCALENDAR
VERSION:2.0
PRODID:-//Diversity Alliance of the Puget Sound - ECPv6.0.13.1//NONSGML v1.0//EN
CALSCALE:GREGORIAN
METHOD:PUBLISH
X-WR-CALNAME:Diversity Alliance of the Puget Sound
X-ORIGINAL-URL:https://www.diversityallianceofthepugetsound.org
X-WR-CALDESC:Events for Diversity Alliance of the Puget Sound
REFRESH-INTERVAL;VALUE=DURATION:PT1H
X-Robots-Tag:noindex
X-PUBLISHED-TTL:PT1H
BEGIN:VTIMEZONE
TZID:America/Los_Angeles
BEGIN:DAYLIGHT
TZOFFSETFROM:-0800
TZOFFSETTO:-0700
TZNAME:PDT
DTSTART:20220313T100000
END:DAYLIGHT
BEGIN:STANDARD
TZOFFSETFROM:-0700
TZOFFSETTO:-0800
TZNAME:PST
DTSTART:20221106T090000
END:STANDARD
END:VTIMEZONE
BEGIN:VEVENT
DTSTART;TZID=America/Los_Angeles:20221118T120000
DTEND;TZID=America/Los_Angeles:20221118T150000
DTSTAMP:20230804T225334
CREATED:20221106T023728Z
LAST-MODIFIED:20221111T221949Z
UID:1284-1668772800-1668783600@www.diversityallianceofthepugetsound.org
SUMMARY:Plant A Tree [UTOPIA TAW Event]
DESCRIPTION:Join UTOPIA as they memorialize our fallen trans siblings and plant a tree in remembrance. They will be gathering on the native lands of the Duwamish Tribe at the Duwamish Longhouse and Cultural Center on November 18\, from 12pm-3pm. Let us plant trees so they will grow strong\, bountiful\, and proud like the way our trans community deserve to live. \nRegister at bit.ly/PlantATree22
URL:https://www.diversityallianceofthepugetsound.org/eventscalendar/1284/
LOCATION:Duwamish Longhouse and Cultural Center\, 4705 W Marginal Way SW\, Seattle\, WA\, 98106\, United States
END:VEVENT
BEGIN:VEVENT
DTSTART;TZID=America/Los_Angeles:20221118T180000
DTEND;TZID=America/Los_Angeles:20221118T210000
DTSTAMP:20230804T225334
CREATED:20221103T081354Z
LAST-MODIFIED:20221106T023842Z
UID:1259-1668794400-1668805200@www.diversityallianceofthepugetsound.org
SUMMARY:Live Screening of Le Nofo: Rise to the Throne [UTOPIA TAW Event]
DESCRIPTION:Youʻve all been waiting for it… The OFFICIAL screening of Le Nofo: The Rise to the Throne! Our sold out show of 2022 with over 750 attendees! Watch the whole show and hear from our cast and creators with some behind the scenes content. \nBring your cozy chairs and pillows and letʻs laugh\, cry\, and laugh some more! Space is limited\, so please register if you will be attending. \n \n 
URL:https://www.diversityallianceofthepugetsound.org/eventscalendar/live-screening-of-le-nofo-rise-to-the-throne-utopia-taw-week/
LOCATION:Trinity Community Gym\, 3807 S Reith\, Kent\, WA\, 98032\, United States
END:VEVENT
BEGIN:VEVENT
DTSTART;TZID=America/Los_Angeles:20221118T183000
DTEND;TZID=America/Los_Angeles:20221118T200000
DTSTAMP:20230804T225334
CREATED:20221102T204337Z
LAST-MODIFIED:20221102T204337Z
UID:1240-1668796200-1668801600@www.diversityallianceofthepugetsound.org
SUMMARY:Dr. Alan L. Hart: Transgender Doctor in the 1930’s
DESCRIPTION:In honor of Transgender Awareness Week\, please join us at the THS Museum\, 406 Tacoma Avenue South\, for a talk by THS Curator Elizabeth Korsmo\, “Dr. Alan L. Hart: Transgender Doctor in the 1930’s.” \nLearn about the life and works of Dr. Hart\, transgender doctor and author in Tacoma in the 1930’s. \nIf you aren’t able to join us in person for this talk\, it will also be available on our YouTube Channel beginning Monday\, November 21.
URL:https://www.diversityallianceofthepugetsound.org/eventscalendar/dr-alan-l-hart-transgender-doctor-in-the-1930s/
LOCATION:Tacoma Historical Society\, 406 Tacoma Avenue South\, Tacoma\, WA\, 98042\, United States
END:VEVENT
BEGIN:VEVENT
DTSTART;TZID=America/Los_Angeles:20221119T140000
DTEND;TZID=America/Los_Angeles:20221119T160000
DTSTAMP:20230804T225334
CREATED:20221103T081002Z
LAST-MODIFIED:20221106T023831Z
UID:1255-1668866400-1668873600@www.diversityallianceofthepugetsound.org
SUMMARY:Youth Open Mic [UTOPIA TAW Event]
DESCRIPTION:Calling all Trans and Gender Nonconforming youth members! Join us for our Open Mic on November 19 from 2pm-4pm. Take the stage or sit back and enjoy the talents of our younger generation! \nRegister at bit.ly/ManaOpenMic
URL:https://www.diversityallianceofthepugetsound.org/eventscalendar/youth-open-mic/
LOCATION:UTOPIA\, 841 Central Ave N Suite C-106\, Kent\, WA\, 98032\, United States
END:VEVENT
BEGIN:VEVENT
DTSTART;TZID=America/Los_Angeles:20221119T150000
DTEND;TZID=America/Los_Angeles:20221119T170000
DTSTAMP:20230804T225334
CREATED:20221118T082422Z
LAST-MODIFIED:20221118T084026Z
UID:1361-1668870000-1668877200@www.diversityallianceofthepugetsound.org
SUMMARY:Transgender Day of Remembrance: An evening of community grief and celebration (Spectrum Center Spokane)
DESCRIPTION:Join Spectrum Center Spokane\, Odyssey Youth Movement\, and Spokane Pride on Saturday\, November 19th from 3-5pm at nxʷyxʷyetkʷ Hall on the third floor of the Central Spokane Public Library for Transgender Day of Remembrance\, and an evening of community\, grief\, and celebration to mourn those lost and honor the resiliency of the trans community \n\n\n\nASL interpreting services provided by A2Z Interpreting! Full vaccination against COVID-19 and face masks are required. Refreshments will be provided.
URL:https://www.diversityallianceofthepugetsound.org/eventscalendar/transgender-day-of-remembrance-an-evening-of-community-grief-and-celebration/
LOCATION:nxʷyxʷyetkʷ Hall\, 906 W. MAIN AVE\, Spokane\, WA\, 99201\, United States
END:VEVENT
BEGIN:VEVENT
DTSTART;TZID=America/Los_Angeles:20221119T150000
DTEND;TZID=America/Los_Angeles:20221119T173000
DTSTAMP:20230804T225334
CREATED:20221102T185528Z
LAST-MODIFIED:20221118T084606Z
UID:1202-1668870000-1668879000@www.diversityallianceofthepugetsound.org
SUMMARY:TDOR Tacoma/Seattle (Tacoma)
DESCRIPTION:TDOR Tacoma/ Seattle will once again be a hybrid event\, live streamed from both cities in order to offer safe and accessible events for the community.\n\nTacoma and Seattle will be held in separate locations on separate days.\n\nThis event is for the Tacoma location and will be held at ALMA TACOMA in Tacoma\, WA on Saturday November 19th.\n\nTDOR is a day to mourn and celebrate those we have lost during the past year\, it is also a time to draw attention to the systematic harms that lead to these deaths. This year both events will be discussing various topics\, using a roundtable format.\n\nFollowing our discussionists\, we will be holding a candlelight vigil to read the names of those who’ve lost their loves to anti-trans hate crimes and violence in the United States this year. Following this\, both sites will give space for debrief and conversation. Tacoma’s debrief will go from ~5-5:30pm in the ALMA Lounge.\n\n\n\nPlease join us if you can\, in whatever capacity you are able\, and help spread the word! Please RSVP so we know how many we will have. As the events approach\, keep an eye on the event page and our socials for updated information.\n\nwww.seattletransvisibility.org\n\nwww.diversityallianceofthepugetsound.org\n\ninfo@diversityallianceofthepugetsound.org\n\nBoth the events and our website will be updated with the full list of those lost this year to violence in the United States prior to the events.\n\n\nLive Stream\nhttps://youtu.be/0idpeq2u-sY
URL:https://www.diversityallianceofthepugetsound.org/eventscalendar/tdor-tacoma-seattle-tacoma/
LOCATION:ALMA\, 1322 Fawcett Ave\, Tacoma\, WA\, 98402\, United States
ORGANIZER;CN="DAPS":MAILTO:info@diversityallianceofthepugetsound.org
END:VEVENT
BEGIN:VEVENT
DTSTART;TZID=America/Los_Angeles:20221119T190000
DTEND;TZID=America/Los_Angeles:20221119T200000
DTSTAMP:20230804T225334
CREATED:20221118T083809Z
LAST-MODIFIED:20221118T084209Z
UID:1369-1668884400-1668888000@www.diversityallianceofthepugetsound.org
SUMMARY:Transgender Day of Remembrance (St. Hilda)
DESCRIPTION:TRANSGENDER DAY OF REMEMBRANCE\n\nPresented by St. Hilda St. Patrick Episcopal Church\n\n— Saturday November 19\, 2022 at 7:00 pm\n\n\n\nCelebrating the lives of Transgender People we’ve lost\, celebrating the strides being made for Transgender Rights in the face of hate\, & bringing together the whole community in support of LOVE\, INCLUSIVENESS\, DIVERSITY\, and UNDERSTANDING.\n\n\n\nLive-Streamed @ https://bit.ly/3SSpf6d\n\n\n\nPlease join St. Hilda St. Patrick Episcopal Church as we STAND TOGETHER and STAND UP to hate\, violence & intolerance against our Transgender siblings MAKE OUR VOICES HEARD.\n\n\n\nSt. Hilda St. Patrick Episcopal Church\n15224 52nd Ave W\, Edmonds\, WA\n\nFor more information\, contact: tdor11.20.2022@gmail.com
URL:https://www.diversityallianceofthepugetsound.org/eventscalendar/transgender-day-of-remembrance-2/
LOCATION:St. Hilda St. Patrick Episcopal Church\, 15224 52nd Ave W\, Edmonds\, WA\, 98026\, United States
ORGANIZER;CN="St.%20Hilda%20St.%20Patrick%20Episcopal%20Church":MAILTO:tdor11.20.2022@gmail.com
END:VEVENT
BEGIN:VEVENT
DTSTART;TZID=America/Los_Angeles:20221120T180000
DTEND;TZID=America/Los_Angeles:20221120T210000
DTSTAMP:20230804T225334
CREATED:20221102T185513Z
LAST-MODIFIED:20221118T084549Z
UID:1195-1668967200-1668978000@www.diversityallianceofthepugetsound.org
SUMMARY:TDOR Seattle/Tacoma 2022 (Seattle)
DESCRIPTION:TDOR Tacoma/ Seattle will once again be a hybrid event\, live streamed from both cities in order to offer safe and accessible events for the community.\n\nTacoma and Seattle will be held in separate locations.\n\nThis event is for the Seattle location which will be held at the same location as last year\, the University Universalist Unitarian Church in Seattle WA on Sunday November 20th\, and is hosted by its founder and DAPS Board Member Astro Pittman.\n\nTDOR is a day to mourn and celebrate those we have lost during the past year\, it is also a time to draw attention to the systematic harms that lead to these deaths. This year both events will be discussing various topics\, using a roundtable format with speakers.\n\nFollowing our speakers\, we will be holding a candlelight vigil to read the names of those who’ve lost their loves to anti-trans hate crimes and violence in the United States this year. Following this\, both sites will give space for debrief and conversation. Seattle’s debrief will go from ~8-9pm.\n\nPlease join us if you can\, in whatever capacity you are able\, and help spread the word! Please RSVP so we know how many we will have. As the events approach\, keep an eye on the event page and our socials for updated information.\n\nwww.seattletransvisibility.org\n\nwww.diversityallianceofthepugetsound.org\n\ninfo@diversityallianceofthepugetsound.org\n\nBoth the events and our website will be updated with the full list of those lost this year to violence in the United States prior to the events.\n\nLive Stream\nhttps://tinyurl.com/TransDayoR
URL:https://www.diversityallianceofthepugetsound.org/eventscalendar/tdor-tacoma-seattle-2022-seattle/
LOCATION:University Universalist Unitarian Church\, 6556 35th Ave N\, Seattle\, WA\, 98115\, United States
END:VEVENT
BEGIN:VEVENT
DTSTART;TZID=America/Los_Angeles:20221120T180000
DTEND;TZID=America/Los_Angeles:20221120T210000
DTSTAMP:20230804T225334
CREATED:20221103T080340Z
LAST-MODIFIED:20221103T080630Z
UID:1245-1668967200-1668978000@www.diversityallianceofthepugetsound.org
SUMMARY:TDOR (UTOPIA)
DESCRIPTION:Please join UTOPIA Washington in honoring our fallen Trans siblings who have passed on due to gender based violence around the world. Every year we hold our Transgender Day of Remembrance service to spread awareness of the ongoing violence that disrupt the lives of our Trans community. We will be hosting a candle light vigil to honor their lives\, their memory\, and their spirit. Our program will include special performances from our partners\, friends\, and community. \nRegister at bit.ly/UTOPIATDOR22
URL:https://www.diversityallianceofthepugetsound.org/eventscalendar/utopia-wa-tdor/
LOCATION:Auburn Riverside Theater\, 501 Oravetz Rd SE\, Auburn\, WA\, 98092\, United States
END:VEVENT
BEGIN:VEVENT
DTSTART;TZID=America/Los_Angeles:20221120T190000
DTEND;TZID=America/Los_Angeles:20221120T200000
DTSTAMP:20230804T225334
CREATED:20221118T081233Z
LAST-MODIFIED:20221118T083916Z
UID:1356-1668970800-1668974400@www.diversityallianceofthepugetsound.org
SUMMARY:Transgender Day of Remembrance (Uptown Rainbow Connection)
DESCRIPTION:Please join Uptown Rainbow Connection as they celebrate and mourn the lives of our transgender siblings who lost their lives this last year. This is a time to speak up\, offer a space for our transgender family\, and create a space where many voices can take the stage to honor their lives by sharing their names.\n\n\n\nAs visitors read the names of individuals aloud\, candles will also be lit to honor each and every person that we’ve lost.\n\n\nWe are honored to hold this space with you. You are loved\, supported\, and valued beyond belief!
URL:https://www.diversityallianceofthepugetsound.org/eventscalendar/transgender-day-of-remembrance/
LOCATION:Uptown Theatre\, 1300 Jadwin Ave\, Richland\, WA\, 99352\, United States
END:VEVENT
BEGIN:VEVENT
DTSTART;TZID=America/Los_Angeles:20221120T190000
DTEND;TZID=America/Los_Angeles:20221121T073000
DTSTAMP:20230804T225334
CREATED:20221102T185500Z
LAST-MODIFIED:20221102T185500Z
UID:1205-1668970800-1669015800@www.diversityallianceofthepugetsound.org
SUMMARY:Pacific Science Center Arch Lighting
DESCRIPTION:Make sure to turn your GAYze toward the Seattle Center once night falls on TDOR again this year while our community partners the Pacific Science Center once again light the arches in the Trans flag colors for TDOR.
URL:https://www.diversityallianceofthepugetsound.org/eventscalendar/pacific-science-center-arch-lighting/
LOCATION:Pacific Science Center\, 200 2nd Ave N\, Seattle\, WA\, 98109\, United States
ORGANIZER;CN="DAPS":MAILTO:info@diversityallianceofthepugetsound.org
END:VEVENT
BEGIN:VEVENT
DTSTART;TZID=America/Los_Angeles:20221121T190000
DTEND;TZID=America/Los_Angeles:20221121T203000
DTSTAMP:20230804T225334
CREATED:20221117T003502Z
LAST-MODIFIED:20221117T003502Z
UID:1341-1669057200-1669062600@www.diversityallianceofthepugetsound.org
SUMMARY:Trans Youth Group [Lambert House]
DESCRIPTION:Join Lambert House for their weekly Trans Youth discussion group on Monday 11/21 from 7-8:30pm. Please email onlinegroups@lamberthouse.org for more information
URL:https://www.diversityallianceofthepugetsound.org/eventscalendar/trans-youth-group-lambert-house/
LOCATION:Lambert House\, 1818 15th Ave\, Seattle\, WA\, 98112\, United States
ORGANIZER;CN="Lambert%20House":MAILTO:onlinegroups@lamberthouse.org
END:VEVENT
END:VCALENDAR